BEGIN:VCALENDAR
VERSION:2.0
PRODID:-//SIEDS - ECPv6.15.20//NONSGML v1.0//EN
CALSCALE:GREGORIAN
METHOD:PUBLISH
X-ORIGINAL-URL:https://academia.utp.edu.co/sieds
X-WR-CALDESC:Eventos para SIEDS
REFRESH-INTERVAL;VALUE=DURATION:PT1H
X-Robots-Tag:noindex
X-PUBLISHED-TTL:PT1H
BEGIN:VTIMEZONE
TZID:America/Bogota
BEGIN:STANDARD
TZOFFSETFROM:-0500
TZOFFSETTO:-0500
TZNAME:-05
DTSTART:20250101T000000
END:STANDARD
END:VTIMEZONE
BEGIN:VEVENT
DTSTART;TZID=America/Bogota:20260414T140000
DTEND;TZID=America/Bogota:20260414T150000
DTSTAMP:20260419T173723
CREATED:20260413T224839Z
LAST-MODIFIED:20260413T230300Z
UID:196-1776175200-1776178800@academia.utp.edu.co
SUMMARY:Charla: Trazado de líneas HVDC
DESCRIPTION:Por el Ing. Maximiliano Bueno López \nInvita: semillero de investigación en Energía Desarrollo y sociedad -SIEDS \n  \n  \n 
URL:https://academia.utp.edu.co/sieds/eventos-conferencias/charla-trazado-de-lineas-hvdc/
LOCATION:1B -007\, Universidad Tecnológica de Pereira
ATTACH;FMTTYPE=image/png:https://academia.utp.edu.co/sieds/files/2026/04/Captura-de-pantalla-2026-04-13-174322.png
END:VEVENT
END:VCALENDAR